BEGIN:VCALENDAR
VERSION:2.0
PRODID:-//Northgate United Reformed Church Darlington - ECPv6.15.20//NONSGML v1.0//EN
CALSCALE:GREGORIAN
METHOD:PUBLISH
X-WR-CALNAME:Northgate United Reformed Church Darlington
X-ORIGINAL-URL:https://nurc.info
X-WR-CALDESC:Events for Northgate United Reformed Church Darlington
REFRESH-INTERVAL;VALUE=DURATION:PT1H
X-Robots-Tag:noindex
X-PUBLISHED-TTL:PT1H
BEGIN:VTIMEZONE
TZID:Europe/London
BEGIN:DAYLIGHT
TZOFFSETFROM:+0000
TZOFFSETTO:+0100
TZNAME:BST
DTSTART:20230326T010000
END:DAYLIGHT
BEGIN:STANDARD
TZOFFSETFROM:+0100
TZOFFSETTO:+0000
TZNAME:GMT
DTSTART:20231029T010000
END:STANDARD
BEGIN:DAYLIGHT
TZOFFSETFROM:+0000
TZOFFSETTO:+0100
TZNAME:BST
DTSTART:20240331T010000
END:DAYLIGHT
BEGIN:STANDARD
TZOFFSETFROM:+0100
TZOFFSETTO:+0000
TZNAME:GMT
DTSTART:20241027T010000
END:STANDARD
BEGIN:DAYLIGHT
TZOFFSETFROM:+0000
TZOFFSETTO:+0100
TZNAME:BST
DTSTART:20250330T010000
END:DAYLIGHT
BEGIN:STANDARD
TZOFFSETFROM:+0100
TZOFFSETTO:+0000
TZNAME:GMT
DTSTART:20251026T010000
END:STANDARD
END:VTIMEZONE
BEGIN:VEVENT
DTSTART;TZID=Europe/London:20240301T140000
DTEND;TZID=Europe/London:20240301T153000
DTSTAMP:20260425T162546
CREATED:20240214T112921Z
LAST-MODIFIED:20240214T112921Z
UID:2525-1709301600-1709307000@nurc.info
SUMMARY:World Day of Prayer
DESCRIPTION:
URL:https://nurc.info/event/world-day-of-prayer
LOCATION:Northgate URC – Sanctuary\, 150 - 154 Northgate\, Darlington\, DL1 1QU\, United Kingdom
CATEGORIES:Service
ORGANIZER;CN="Northgate URC":MAILTO:admin@nurc.info
END:VEVENT
END:VCALENDAR